BEGIN:VCALENDAR
VERSION:2.0
PRODID:http://www.engagement-global.de/ Calendar
CALSCALE:GREGORIAN
BEGIN:VTIMEZONE
TZID:Europe/Berlin
BEGIN:DAYLIGHT
TZOFFSETFROM:+0100
RRULE:FREQ=YEARLY;BYMONTH=3;BYDAY=-1SU
DTSTART:19810329T020000
TZNAME:MESZ
TZOFFSETTO:+0200
END:DAYLIGHT
BEGIN:STANDARD
TZOFFSETFROM:+0200
RRULE:FREQ=YEARLY;BYMONTH=10;BYDAY=-1SU
DTSTART:19961027T030000
TZNAME:MEZ
TZOFFSETTO:+0100
END:STANDARD
END:VTIMEZONE
BEGIN:VEVENT
CREATED:20220427T014129Z
UID:1458e7509aa5f47ecfb92536e7dd1dc7@engagement-global.de
DTSTAMP:20220427T014129Z
DTSTART;VALUE=DATE:20210426
DTEND;VALUE=DATE:20210430
SUMMARY:Connective Cities Dialogveranstaltung: Stärkung der lokalen Umsetzung der SDGs durch Berichterstattung und Monitoring
LOCATION:Online
END:VEVENT
END:VCALENDAR