BEGIN:VCALENDAR
VERSION:2.0
PRODID:http://www.engagement-global.de/ Calendar
CALSCALE:GREGORIAN
BEGIN:VTIMEZONE
TZID:Europe/Berlin
BEGIN:DAYLIGHT
TZOFFSETFROM:+0100
RRULE:FREQ=YEARLY;BYMONTH=3;BYDAY=-1SU
DTSTART:19810329T020000
TZNAME:MESZ
TZOFFSETTO:+0200
END:DAYLIGHT
BEGIN:STANDARD
TZOFFSETFROM:+0200
RRULE:FREQ=YEARLY;BYMONTH=10;BYDAY=-1SU
DTSTART:19961027T030000
TZNAME:MEZ
TZOFFSETTO:+0100
END:STANDARD
END:VTIMEZONE
BEGIN:VEVENT
CREATED:20220427T064038Z
UID:c254e7753095807e1cca159e48eceb21@engagement-global.de
DTSTAMP:20220427T064038Z
DTSTART;TZID=Europe/Berlin:20210519T100000
DTEND;TZID=Europe/Berlin:20210520T100000
SUMMARY:Другий онлайн-круглий стіл муніципальних німецько-українських партнерств
LOCATION:Онлайн
END:VEVENT
END:VCALENDAR