BEGIN:VCALENDAR
VERSION:2.0
PRODID:http://www.engagement-global.de/ Calendar
CALSCALE:GREGORIAN
BEGIN:VTIMEZONE
TZID:Europe/Berlin
BEGIN:DAYLIGHT
TZOFFSETFROM:+0100
RRULE:FREQ=YEARLY;BYMONTH=3;BYDAY=-1SU
DTSTART:19810329T020000
TZNAME:MESZ
TZOFFSETTO:+0200
END:DAYLIGHT
BEGIN:STANDARD
TZOFFSETFROM:+0200
RRULE:FREQ=YEARLY;BYMONTH=10;BYDAY=-1SU
DTSTART:19961027T030000
TZNAME:MEZ
TZOFFSETTO:+0100
END:STANDARD
END:VTIMEZONE
BEGIN:VEVENT
CREATED:20220427T014402Z
UID:895daa408f494ad58006c47a30f51c1f@engagement-global.de
DTSTAMP:20220427T014402Z
DTSTART;TZID=Europe/Berlin:20210420T120000
DTEND;TZID=Europe/Berlin:20210420T160000
SUMMARY:Virtuelle Podiumsdiskussion: Urban Gardening - Lokal gerechte  Lösungen für globale Herausforderungen?
LOCATION:online
END:VEVENT
END:VCALENDAR