BEGIN:VCALENDAR
VERSION:2.0
PRODID:http://www.engagement-global.de/ Calendar
CALSCALE:GREGORIAN
BEGIN:VTIMEZONE
TZID:Europe/Berlin
BEGIN:DAYLIGHT
TZOFFSETFROM:+0100
RRULE:FREQ=YEARLY;BYMONTH=3;BYDAY=-1SU
DTSTART:19810329T020000
TZNAME:MESZ
TZOFFSETTO:+0200
END:DAYLIGHT
BEGIN:STANDARD
TZOFFSETFROM:+0200
RRULE:FREQ=YEARLY;BYMONTH=10;BYDAY=-1SU
DTSTART:19961027T030000
TZNAME:MEZ
TZOFFSETTO:+0100
END:STANDARD
END:VTIMEZONE
BEGIN:VEVENT
CREATED:20220427T013241Z
UID:4f11b55f57612f06fe9638b99f6c66e6@engagement-global.de
DTSTAMP:20220427T013241Z
DTSTART;VALUE=DATE:20210507
DTEND;VALUE=DATE:20210509
SUMMARY:GRIBS-Kommunalkongress 2021: Resiliente Kommunen - wachsam, mutig, zukunftsfest
LOCATION:online
END:VEVENT
END:VCALENDAR