BEGIN:VCALENDAR
VERSION:2.0
PRODID:http://www.engagement-global.de/ Calendar
CALSCALE:GREGORIAN
BEGIN:VTIMEZONE
TZID:Europe/Berlin
BEGIN:DAYLIGHT
TZOFFSETFROM:+0100
RRULE:FREQ=YEARLY;BYMONTH=3;BYDAY=-1SU
DTSTART:19810329T020000
TZNAME:MESZ
TZOFFSETTO:+0200
END:DAYLIGHT
BEGIN:STANDARD
TZOFFSETFROM:+0200
RRULE:FREQ=YEARLY;BYMONTH=10;BYDAY=-1SU
DTSTART:19961027T030000
TZNAME:MEZ
TZOFFSETTO:+0100
END:STANDARD
END:VTIMEZONE
BEGIN:VEVENT
CREATED:20220427T020145Z
UID:49c0fa7f96aa0a5fb95c62909d5190a6@engagement-global.de
DTSTAMP:20220427T020145Z
DTSTART;VALUE=DATE:20210531
DTEND;VALUE=DATE:20210607
SUMMARY:Globale Verantwortung beginnt bei uns. Regensburger Nachhaltigkeitswoche
LOCATION:online und verschiedene Standorte im Stadtgebiet
END:VEVENT
END:VCALENDAR