BEGIN:VCALENDAR
VERSION:2.0
PRODID:http://www.engagement-global.de/ Calendar
CALSCALE:GREGORIAN
BEGIN:VTIMEZONE
TZID:Europe/Berlin
BEGIN:DAYLIGHT
TZOFFSETFROM:+0100
RRULE:FREQ=YEARLY;BYMONTH=3;BYDAY=-1SU
DTSTART:19810329T020000
TZNAME:MESZ
TZOFFSETTO:+0200
END:DAYLIGHT
BEGIN:STANDARD
TZOFFSETFROM:+0200
RRULE:FREQ=YEARLY;BYMONTH=10;BYDAY=-1SU
DTSTART:19961027T030000
TZNAME:MEZ
TZOFFSETTO:+0100
END:STANDARD
END:VTIMEZONE
BEGIN:VEVENT
CREATED:20220427T012315Z
UID:34ffeb359a192eb8174b6854643cc046@engagement-global.de
DTSTAMP:20220427T012315Z
DTSTART;VALUE=DATE:20210616
DTEND;VALUE=DATE:20210619
SUMMARY:Jahrestagung 2021 RENN.nord: Smarte Dörfer im Garten der Metropolen
LOCATION:Bollewick
END:VEVENT
END:VCALENDAR