BEGIN:VCALENDAR
VERSION:2.0
PRODID:http://www.engagement-global.de/ Calendar
CALSCALE:GREGORIAN
BEGIN:VTIMEZONE
TZID:Europe/Berlin
BEGIN:DAYLIGHT
TZOFFSETFROM:+0100
RRULE:FREQ=YEARLY;BYMONTH=3;BYDAY=-1SU
DTSTART:19810329T020000
TZNAME:MESZ
TZOFFSETTO:+0200
END:DAYLIGHT
BEGIN:STANDARD
TZOFFSETFROM:+0200
RRULE:FREQ=YEARLY;BYMONTH=10;BYDAY=-1SU
DTSTART:19961027T030000
TZNAME:MEZ
TZOFFSETTO:+0100
END:STANDARD
END:VTIMEZONE
BEGIN:VEVENT
CREATED:20220427T020013Z
UID:56e6a93212e4482d99c84a639d254b67@engagement-global.de
DTSTAMP:20220427T020013Z
DTSTART;TZID=Europe/Berlin:20210930T093000
DTEND;TZID=Europe/Berlin:20210930T163000
SUMMARY:Workshop: Klimawandel verschärft Schuldenkrisen
LOCATION:Charlottenplatz 17, Stuttgart
END:VEVENT
END:VCALENDAR