BEGIN:VCALENDAR
VERSION:2.0
PRODID:http://www.engagement-global.de/ Calendar
CALSCALE:GREGORIAN
BEGIN:VTIMEZONE
TZID:Europe/Berlin
BEGIN:DAYLIGHT
TZOFFSETFROM:+0100
RRULE:FREQ=YEARLY;BYMONTH=3;BYDAY=-1SU
DTSTART:19810329T020000
TZNAME:MESZ
TZOFFSETTO:+0200
END:DAYLIGHT
BEGIN:STANDARD
TZOFFSETFROM:+0200
RRULE:FREQ=YEARLY;BYMONTH=10;BYDAY=-1SU
DTSTART:19961027T030000
TZNAME:MEZ
TZOFFSETTO:+0100
END:STANDARD
END:VTIMEZONE
BEGIN:VEVENT
CREATED:20220427T012625Z
UID:b994697479c5716eda77e8e9713e5f0f@engagement-global.de
DTSTAMP:20220427T012625Z
DTSTART;VALUE=DATE:20210903
DTEND;VALUE=DATE:20210905
SUMMARY:Praxisworkshop: Bürgerbeteiligung in der digitalen Stadt
LOCATION:Dominikanergasse 5, Frankfurt
END:VEVENT
END:VCALENDAR