BEGIN:VCALENDAR
VERSION:2.0
PRODID:http://www.engagement-global.de/ Calendar
CALSCALE:GREGORIAN
BEGIN:VTIMEZONE
TZID:Europe/Berlin
BEGIN:DAYLIGHT
TZOFFSETFROM:+0100
RRULE:FREQ=YEARLY;BYMONTH=3;BYDAY=-1SU
DTSTART:19810329T020000
TZNAME:MESZ
TZOFFSETTO:+0200
END:DAYLIGHT
BEGIN:STANDARD
TZOFFSETFROM:+0200
RRULE:FREQ=YEARLY;BYMONTH=10;BYDAY=-1SU
DTSTART:19961027T030000
TZNAME:MEZ
TZOFFSETTO:+0100
END:STANDARD
END:VTIMEZONE
BEGIN:VEVENT
CREATED:20220427T015749Z
UID:f550e0ba9e1c4e8bb4a5ed0ac23a952d@engagement-global.de
DTSTAMP:20220427T015749Z
DTSTART;VALUE=DATE:20210910
DTEND;VALUE=DATE:20210925
SUMMARY:Faire Woche 2021 - Zukunft fair gestalten
LOCATION:Bundesweit
END:VEVENT
END:VCALENDAR