BEGIN:VCALENDAR
VERSION:2.0
PRODID:http://www.engagement-global.de/ Calendar
CALSCALE:GREGORIAN
BEGIN:VTIMEZONE
TZID:Europe/Berlin
BEGIN:DAYLIGHT
TZOFFSETFROM:+0100
RRULE:FREQ=YEARLY;BYMONTH=3;BYDAY=-1SU
DTSTART:19810329T020000
TZNAME:MESZ
TZOFFSETTO:+0200
END:DAYLIGHT
BEGIN:STANDARD
TZOFFSETFROM:+0200
RRULE:FREQ=YEARLY;BYMONTH=10;BYDAY=-1SU
DTSTART:19961027T030000
TZNAME:MEZ
TZOFFSETTO:+0100
END:STANDARD
END:VTIMEZONE
BEGIN:VEVENT
CREATED:20220427T015817Z
UID:0dd1bc593a91620daecf7723d2235624@engagement-global.de
DTSTAMP:20220427T015817Z
DTSTART;VALUE=DATE:20211004
DTEND;VALUE=DATE:20211031
SUMMARY:Cities Matter: Urban October 2021 &#40;Veranstaltungsreihe&#41;
LOCATION:Bonn, Köln und online
END:VEVENT
END:VCALENDAR