BEGIN:VCALENDAR
VERSION:2.0
PRODID:http://www.engagement-global.de/ Calendar
CALSCALE:GREGORIAN
BEGIN:VTIMEZONE
TZID:Europe/Berlin
BEGIN:DAYLIGHT
TZOFFSETFROM:+0100
RRULE:FREQ=YEARLY;BYMONTH=3;BYDAY=-1SU
DTSTART:19810329T020000
TZNAME:MESZ
TZOFFSETTO:+0200
END:DAYLIGHT
BEGIN:STANDARD
TZOFFSETFROM:+0200
RRULE:FREQ=YEARLY;BYMONTH=10;BYDAY=-1SU
DTSTART:19961027T030000
TZNAME:MEZ
TZOFFSETTO:+0100
END:STANDARD
END:VTIMEZONE
BEGIN:VEVENT
CREATED:20220427T014056Z
UID:3b9be7e15b46c42911f39a4a9e861022@engagement-global.de
DTSTAMP:20220427T014056Z
DTSTART;TZID=Europe/Berlin:20220325T130000
DTEND;TZID=Europe/Berlin:20220326T160000
SUMMARY:25. Eine-Welt-Landeskonferenz NRW: Gendergerechtigkeit und Empowerment
LOCATION:Münster oder online
END:VEVENT
END:VCALENDAR