BEGIN:VCALENDAR
VERSION:2.0
PRODID:http://www.engagement-global.de/ Calendar
CALSCALE:GREGORIAN
BEGIN:VTIMEZONE
TZID:Europe/Berlin
BEGIN:DAYLIGHT
TZOFFSETFROM:+0100
RRULE:FREQ=YEARLY;BYMONTH=3;BYDAY=-1SU
DTSTART:19810329T020000
TZNAME:MESZ
TZOFFSETTO:+0200
END:DAYLIGHT
BEGIN:STANDARD
TZOFFSETFROM:+0200
RRULE:FREQ=YEARLY;BYMONTH=10;BYDAY=-1SU
DTSTART:19961027T030000
TZNAME:MEZ
TZOFFSETTO:+0100
END:STANDARD
END:VTIMEZONE
BEGIN:VEVENT
CREATED:20220427T012151Z
UID:f7efa4f864ae9b88d43527f4b14f750f@engagement-global.de
DTSTAMP:20220427T012151Z
DTSTART;TZID=Europe/Berlin:20220228T180000
DTEND;TZID=Europe/Berlin:20220228T191500
SUMMARY:Launch des Treptow-Köpenicker Nachhaltigkeitsmonitorings
LOCATION:Online
END:VEVENT
END:VCALENDAR