BEGIN:VCALENDAR
VERSION:2.0
PRODID:http://www.engagement-global.de/ Calendar
CALSCALE:GREGORIAN
BEGIN:VTIMEZONE
TZID:Europe/Berlin
BEGIN:DAYLIGHT
TZOFFSETFROM:+0100
RRULE:FREQ=YEARLY;BYMONTH=3;BYDAY=-1SU
DTSTART:19810329T020000
TZNAME:MESZ
TZOFFSETTO:+0200
END:DAYLIGHT
BEGIN:STANDARD
TZOFFSETFROM:+0200
RRULE:FREQ=YEARLY;BYMONTH=10;BYDAY=-1SU
DTSTART:19961027T030000
TZNAME:MEZ
TZOFFSETTO:+0100
END:STANDARD
END:VTIMEZONE
BEGIN:VEVENT
CREATED:20220427T020309Z
UID:0ab922ba3e948387b4b2a85fcb83d194@engagement-global.de
DTSTAMP:20220427T020309Z
DTSTART;TZID=Europe/Berlin:20220423T100000
DTEND;TZID=Europe/Berlin:20220423T150000
SUMMARY:Entwicklungspolitische Landeskonferenz Baden-Württemberg meets Mindchangers Summit 2022
LOCATION:Messepiazza 1, 70629 Stuttgart, Stuttgart
END:VEVENT
END:VCALENDAR